BEGIN:VCALENDAR
PRODID:-//dvv-bw.de//dvv.Portalplattform//DE
VERSION:2.0
METHOD:PUBLISH
BEGIN:VEVENT
DTSTART:20260507T120000Z
DTEND:20260507T173000Z
DTSTAMP:20260421T193813Z
UID:35082706-29914159-1778104800000
SUMMARY:DRK Blutspende
LOCATION:Stadthalle Eberbach, Leopoldsplatz 2, 69412 Eberbach
DESCRIPTION:Erst wenn’s fehlt fällt’s auf: Jetzt Blutspender werden\n\nTäglich werden allein in Baden-Württemberg und Hessen mehr als 2.700 Blutspenden benötigt. Patient*innen aller Altersklassen sind auf eine kontinuierliche und lückenlose Versorgung angewiesen. Vielen Menschen wird erst bewusst wie wichtig eine Blutspende ist\, wenn sie selbst oder ihr näheres Umfeld durch einen Unfall oder eine Erkrankung unmittelbar auf Blut angewiesen sind. Das DRK ruft auf: Es ist nie zu spät für die erste gute Tat. Jetzt Blutspender*in werden.\nBlut wird täglich zur Behandlung von Patientinnen und Patienten benötigt. Es ist nie zu spät für eine gute Tat.
CLASS:PUBLIC
X-ALT-DESC;FMTTYPE=text/html:Erst wenn&rsquo;s fehlt fällt&rsquo;s auf: Jetzt Blutspender werden<br><br>Täglich werden allein in Baden-Württemberg und Hessen mehr als 2.700 Blutspenden benötigt. Patient*innen aller Altersklassen sind auf eine kontinuierliche und lückenlose Versorgung angewiesen. Vielen Menschen wird erst bewusst wie wichtig eine Blutspende ist\, wenn sie selbst oder ihr näheres Umfeld durch einen Unfall oder eine Erkrankung unmittelbar auf Blut angewiesen sind. Das DRK ruft auf: Es ist nie zu spät für die erste gute Tat. Jetzt Blutspender*in werden.<br>Blut wird täglich zur Behandlung von Patientinnen und Patienten benötigt. Es ist nie zu spät für eine gute Tat.
END:VEVENT
END:VCALENDAR
