BEGIN:VCALENDAR
PRODID:-//dvv-bw.de//dvv.Portalplattform//DE
VERSION:2.0
METHOD:PUBLISH
BEGIN:VEVENT
DTSTART:20260426T160000Z
DTEND:20260426T180000Z
DTSTAMP:20260421T230237Z
UID:35082704-35082851-1777154400000
SUMMARY:Orgelkonzert
LOCATION:Evang. Michaelskirche\, Bahnhofstraße 2/1\, 69412 Eberbach
DESCRIPTION:Am Sonntag\, den 26. April gastiert Michael A. Müller an der Weißenborn/Lenter-Orgel der Michaelskirche in Eberbach.
CLASS:PUBLIC
X-ALT-DESC;FMTTYPE=text/html:Am Sonntag\, den 26. April gastiert Michael A. Müller an der Weißenborn/Lenter-Orgel der Michaelskirche in Eberbach.
END:VEVENT
END:VCALENDAR
