BEGIN:VCALENDAR
PRODID:-//dvv-bw.de//dvv.Portalplattform//DE
VERSION:2.0
METHOD:PUBLISH
BEGIN:VEVENT
DTSTART:20260502T100000Z
DTEND:20260502T140000Z
DTSTAMP:20260421T211157Z
UID:35057554-35057454-1777672800000
SUMMARY:Familienbasar + DKMS Registrierungsaktion
DESCRIPTION:Sortierter Familienbasar mit DKMS Registrierungsaktion im HSG Eberbach
CLASS:PUBLIC
X-ALT-DESC;FMTTYPE=text/html:Sortierter Familienbasar mit DKMS Registrierungsaktion im HSG Eberbach
END:VEVENT
END:VCALENDAR
