BEGIN:VCALENDAR
PRODID:-//dvv-bw.de//dvv.Portalplattform//DE
VERSION:2.0
METHOD:PUBLISH
BEGIN:VEVENT
DTSTART:20260413T220000Z
DTEND:20260424T220000Z
DTSTAMP:20260413T220000Z
RRULE;FREQ=DAILY;UNTIL=20260425T215959Z
UID:34983411-34983308-1776117600000
SUMMARY:Bücherflohmarkt
LOCATION:Stadtbibliothek, Leopoldsplatz 2, 69412 Eberbach
DESCRIPTION:Vom 14. – 25. April 2026 findet zu den Öffnungszeiten ein großer Bücherflohmarkt in der Stadtbibliothek Eberbach statt.\nAngeboten werden Bücher für Kinder\, Jugendliche und Erwachsene sowie Zeitschriften und DVDs.
CLASS:PUBLIC
X-ALT-DESC;FMTTYPE=text/html:Vom 14. &ndash; 25. April 2026 findet zu den Öffnungszeiten ein großer Bücherflohmarkt in der Stadtbibliothek Eberbach statt.<br>Angeboten werden Bücher für Kinder\, Jugendliche und Erwachsene sowie Zeitschriften und DVDs.
END:VEVENT
END:VCALENDAR
