BEGIN:VCALENDAR
PRODID:-//dvv-bw.de//dvv.Portalplattform//DE
VERSION:2.0
METHOD:PUBLISH
BEGIN:VEVENT
DTSTART:20260425T070000Z
DTEND:20260425T110000Z
DTSTAMP:20260421T211436Z
UID:34779052-34778951-1777068000000
SUMMARY:Aktion Sauberes Eberbach
LOCATION:Neuer Markt, Neuer Markt, 69412 Eberbach
DESCRIPTION:Möglichst viele freiwillige Helferinnen und Helfer werden gemeinsam und unter Betreuung der Stadt Eberbach die Innenstadt und teilnehmende Ortsteile verschönern. Vorgesehen sind u. a. das Sammeln von allgemeinem Müll in den Straßen / auf den Plätzen\, Entfernen von Zigarettenkippen u. ä.\, Entfernen von Unkraut\, Entfernen von Kleberesten an Schildern und Stromkästen uvm.
CLASS:PUBLIC
X-ALT-DESC;FMTTYPE=text/html:Möglichst viele freiwillige Helferinnen und Helfer werden gemeinsam und unter Betreuung der Stadt Eberbach die Innenstadt und teilnehmende Ortsteile verschönern. Vorgesehen sind u. a. das Sammeln von allgemeinem Müll in den Straßen / auf den Plätzen\, Entfernen von Zigarettenkippen u. ä.\, Entfernen von Unkraut\, Entfernen von Kleberesten an Schildern und Stromkästen uvm.
END:VEVENT
END:VCALENDAR
